BEGIN:VCALENDAR
VERSION:2.0
PRODID:-//MYCN Zwingenberg - ECPv6.15.20//NONSGML v1.0//EN
CALSCALE:GREGORIAN
METHOD:PUBLISH
X-ORIGINAL-URL:https://www.mycn-zwingenberg.de
X-WR-CALDESC:Veranstaltungen für MYCN Zwingenberg
REFRESH-INTERVAL;VALUE=DURATION:PT1H
X-Robots-Tag:noindex
X-PUBLISHED-TTL:PT1H
BEGIN:VTIMEZONE
TZID:Europe/Berlin
BEGIN:DAYLIGHT
TZOFFSETFROM:+0100
TZOFFSETTO:+0200
TZNAME:CEST
DTSTART:20250330T010000
END:DAYLIGHT
BEGIN:STANDARD
TZOFFSETFROM:+0200
TZOFFSETTO:+0100
TZNAME:CET
DTSTART:20251026T010000
END:STANDARD
BEGIN:DAYLIGHT
TZOFFSETFROM:+0100
TZOFFSETTO:+0200
TZNAME:CEST
DTSTART:20260329T010000
END:DAYLIGHT
BEGIN:STANDARD
TZOFFSETFROM:+0200
TZOFFSETTO:+0100
TZNAME:CET
DTSTART:20261025T010000
END:STANDARD
BEGIN:DAYLIGHT
TZOFFSETFROM:+0100
TZOFFSETTO:+0200
TZNAME:CEST
DTSTART:20270328T010000
END:DAYLIGHT
BEGIN:STANDARD
TZOFFSETFROM:+0200
TZOFFSETTO:+0100
TZNAME:CET
DTSTART:20271031T010000
END:STANDARD
END:VTIMEZONE
BEGIN:VEVENT
DTSTART;TZID=Europe/Berlin:20260301T153000
DTEND;TZID=Europe/Berlin:20260301T170000
DTSTAMP:20260422T102825
CREATED:20260121T144130Z
LAST-MODIFIED:20260121T144130Z
UID:1269-1772379000-1772384400@www.mycn-zwingenberg.de
SUMMARY:Mitgliederversammlung
DESCRIPTION:
URL:https://www.mycn-zwingenberg.de/veranstaltung/mitgliederversammlung-4/
END:VEVENT
BEGIN:VEVENT
DTSTART;VALUE=DATE:20260328
DTEND;VALUE=DATE:20260329
DTSTAMP:20260422T102825
CREATED:20260121T143517Z
LAST-MODIFIED:20260121T143517Z
UID:1259-1774656000-1774742399@www.mycn-zwingenberg.de
SUMMARY:Arbeitseinsatz
DESCRIPTION:
URL:https://www.mycn-zwingenberg.de/veranstaltung/arbeitseinsatz-24/
CATEGORIES:Arbeitseinsätze
END:VEVENT
END:VCALENDAR